BEGIN:VCALENDAR
VERSION:2.0
PRODID:-//Department Of Education//d503d4de-171b-4252-b5ed-0ff760057ab6
BEGIN:VTIMEZONE
TZID:Australia/Sydney
TZURL:http://tzurl.org/zoneinfo-outlook/Australia/Sydney
X-LIC-LOCATION:Australia/Sydney
BEGIN:STANDARD
TZOFFSETFROM:+1100
TZOFFSETTO:+1000
TZNAME:AEST
DTSTART:19700405T030000
RRULE:FREQ=YEARLY;BYMONTH=4;BYDAY=1SU
END:STANDARD
BEGIN:DAYLIGHT
TZOFFSETFROM:+1000
TZOFFSETTO:+1100
TZNAME:AEDT
DTSTART:19701004T020000
RRULE:FREQ=YEARLY;BYMONTH=10;BYDAY=1SU
END:DAYLIGHT
END:VTIMEZONE
CALSCALE:GREGORIAN
X-WR-TIMEZONE:Australia/Sydney
BEGIN:VEVENT
DTSTART;TZID=Australia/Sydney:20200227T160000
DTEND;TZID=Australia/Sydney:20200227T170000
DTSTAMP:20200227T000000Z
UID:0ffbf955-9a68-43fa-b2fe-a43afc80e697
LOCATION:In Classrooms, Sans Souci Public School
SUMMARY;LANGUAGE=en-us:Stage 1 Meet the Teacher
SEQUENCE:0
DESCRIPTION:These sessions provide an opportunity to meet your child?s teacher(s) and to become familiar with the organisation of Grade and Stage programs. Year 1 meetings will be 4pm - 4:30. Year 2 meetings will be 4:30 - 5pm.  All parents and carers are strongly encouraged to attend. All sessions will be held in your child's classroom. Please see attached note for further information. 
END:VEVENT
TRANSP:TRANSPARENT
END:VCALENDAR
