BEGIN:VCALENDAR
VERSION:2.0
PRODID:-//Department Of Education//c33cd432-dbbe-4aa9-8439-3ce58bc13a5c
BEGIN:VTIMEZONE
TZID:Australia/Sydney
TZURL:http://tzurl.org/zoneinfo-outlook/Australia/Sydney
X-LIC-LOCATION:Australia/Sydney
BEGIN:STANDARD
TZOFFSETFROM:+1100
TZOFFSETTO:+1000
TZNAME:AEST
DTSTART:19700405T030000
RRULE:FREQ=YEARLY;BYMONTH=4;BYDAY=1SU
END:STANDARD
BEGIN:DAYLIGHT
TZOFFSETFROM:+1000
TZOFFSETTO:+1100
TZNAME:AEDT
DTSTART:19701004T020000
RRULE:FREQ=YEARLY;BYMONTH=10;BYDAY=1SU
END:DAYLIGHT
END:VTIMEZONE
CALSCALE:GREGORIAN
X-WR-TIMEZONE:Australia/Sydney
BEGIN:VEVENT
DTSTART;TZID=Australia/Sydney:20200219T160000
DTEND;TZID=Australia/Sydney:20200219T163000
DTSTAMP:20200219T000000Z
UID:93c0de00-ac23-41ee-af0a-25afeab221c5
LOCATION:In Classrooms, Sans Souci Public School
SUMMARY;LANGUAGE=en-us:Stage 3 Meet the Teacher
SEQUENCE:0
DESCRIPTION:These sessions provide an opportunity to meet your child?s teacher(s) and to become familiar with the organisation of Grade and Stage programs. All parents and carers are strongly encouraged to attend. An additional High School enrolment information session (for Year 6 parents) will be held this term at a time to be confirmed. Please see attached link for further information if neccessary.
END:VEVENT
TRANSP:TRANSPARENT
END:VCALENDAR
