BEGIN:VCALENDAR
VERSION:2.0
PRODID:-//Department Of Education//06fd5731-27ba-4d26-8259-3622d1a2306f
BEGIN:VTIMEZONE
TZID:Australia/Sydney
TZURL:http://tzurl.org/zoneinfo-outlook/Australia/Sydney
X-LIC-LOCATION:Australia/Sydney
BEGIN:STANDARD
TZOFFSETFROM:+1100
TZOFFSETTO:+1000
TZNAME:AEST
DTSTART:19700405T030000
RRULE:FREQ=YEARLY;BYMONTH=4;BYDAY=1SU
END:STANDARD
BEGIN:DAYLIGHT
TZOFFSETFROM:+1000
TZOFFSETTO:+1100
TZNAME:AEDT
DTSTART:19701004T020000
RRULE:FREQ=YEARLY;BYMONTH=10;BYDAY=1SU
END:DAYLIGHT
END:VTIMEZONE
CALSCALE:GREGORIAN
X-WR-TIMEZONE:Australia/Sydney
BEGIN:VEVENT
DTSTART;TZID=Australia/Sydney:20200226T140000
DTEND;TZID=Australia/Sydney:20200226T151500
DTSTAMP:20200226T000000Z
UID:d0841314-2cd6-4d22-b332-672830ab489f
LOCATION:ILLA Sans Souci Public School
SUMMARY;LANGUAGE=en-us:ThinkUKnow Cyber Safety Presentation
SEQUENCE:0
DESCRIPTION:On Wednesday 26th February there will be a?ThinkuKnow? Cyber safety presentation for parents at 2:00pm in the ILLA room (upstairs, above the library). ?ThinkuKnow? is a partnership between the Federal Police, Commonwealth Bank, Datacom and Microsoft Australia and is Australia?s first and only nationally delivered law enforcement led online safety program. The program focuses on what young people do online, the challenges they face and who to contact if something goes wrong. Self-protection through education and empowerment is the key for children to protect themselves against threatening or harmful situations online. All sessions are delivered in collaboration with State Police and Neighbourhood Watch Australia. Due to limited places please sign and return expression of interest for attendance by Wednesday 19th February.
END:VEVENT
TRANSP:TRANSPARENT
END:VCALENDAR
